BEGIN:VCALENDAR
VERSION:2.0
PRODID:-//ChamberMaster//Event Calendar 2.0//EN
METHOD:PUBLISH
X-PUBLISHED-TTL:P3D
REFRESH-INTERVAL:P3D
CALSCALE:GREGORIAN
BEGIN:VEVENT
DTSTART;VALUE=DATE:20080322
DTEND;VALUE=DATE:20080323
TRANSP:TRANSPARENT
X-MICROSOFT-CDO-ALLDAYEVENT:TRUE
SUMMARY:Spring Festival 2008
DESCRIPTION:Spring Festival Celebration at the New Albany Gardens & Care Center .\n\nPlease join us for an eventful day!  Activities will include an Easter egg hunt\, petting zoo\, bouncy gym\, crafts\, and pictures with the Easter bunny\, face painting and more.\n\nFood items will also be for sale such as: hot dogs and refreshments.
X-ALT-DESC;FMTTYPE=text/html:<div>Spring Festival Celebration at the New Albany Gardens &amp\; Care Center .</div>\n\n<div>Please join us for an eventful day!&nbsp\; Activities will include an Easter egg hunt\, petting zoo\, bouncy gym\, crafts\, and pictures with the Easter bunny\, face painting and more.</div>\n\n<div>Food items will also be for sale such as: hot dogs and refreshments.&nbsp\;</div>\n
LOCATION:New Albany Garden & Care Center 5691 Thompson Rd.
UID:e.304.209
SEQUENCE:3
DTSTAMP:20260422T202235Z
URL:https://cm.newalbanychamber.com/events/details/spring-festival-2008-209
END:VEVENT

END:VCALENDAR
