BEGIN:VCALENDAR
VERSION:2.0
PRODID:-//ChamberMaster//Event Calendar 2.0//EN
METHOD:PUBLISH
X-PUBLISHED-TTL:P3D
REFRESH-INTERVAL:P3D
CALSCALE:GREGORIAN
BEGIN:VEVENT
DTSTART:20100516T170000Z
DTEND:20100516T200000Z
X-MICROSOFT-CDO-ALLDAYEVENT:FALSE
SUMMARY:Spring Home Tour
DESCRIPTION:Spring in New Albany\, a Home Tour Event sponsored by New Albany Realty will be held\, Sunday\, May 16th from 1-4 p.m.  The tour will include a preview of newly constructed homes of Ackerly Park\, Site ofthe BIA Parade of Homes. Stop by our Market Street office.
X-ALT-DESC;FMTTYPE=text/html:<div>Spring in New Albany\, a Home Tour Event sponsored by New Albany Realty will be held\, Sunday\, May 16th from 1-4 p.m.&nbsp\; The tour will include a preview of newly constructed homes of Ackerly Park\, Site ofthe BIA Parade of Homes.</div><div>&nbsp\;</div><div>Stop by our Market Street office.</div>
LOCATION:220 Market StreetSuite DNew Albany\, Ohio
UID:e.304.649
SEQUENCE:3
DTSTAMP:20260421T053122Z
URL:https://cm.newalbanychamber.com/events/details/spring-home-tour-05-16-2010-649
END:VEVENT

END:VCALENDAR
