BEGIN:VCALENDAR
VERSION:2.0
PRODID:-//ChamberMaster//Event Calendar 2.0//EN
METHOD:PUBLISH
X-PUBLISHED-TTL:P3D
REFRESH-INTERVAL:P3D
CALSCALE:GREGORIAN
BEGIN:VEVENT
DTSTART:20090418T170000Z
DTEND:20090418T200000Z
X-MICROSOFT-CDO-ALLDAYEVENT:FALSE
SUMMARY:Spring Home Tour in New Albany
DESCRIPTION:"Spring in New Albany" Home Tour.Join New Albany Realty as we open our doors to over 25 New Albany Homes.The opportunity for you to view\, firsthand\, the variety and range Classic Georgian architecture offers. Make your first stop at our sales office located at 220 Market Street\, Suite D and pick up your map and list of all homes open for you to view.  Maps will be available April 15th.
X-ALT-DESC;FMTTYPE=text/html:<p>&quot\;Spring in New Albany&quot\; Home Tour.</p><p>Join New Albany Realty as we open our doors to over 25 New Albany Homes.</p><p>The opportunity for you to view\, firsthand\, the variety and range Classic Georgian architecture offers. Make your first stop at our sales office located at 220 Market Street\, Suite D and pick up your map and list of all homes open for you to view.&nbsp\; Maps will be available April 15th.</p>
LOCATION:220 Market Street\, Suite DMarket Square to pick up your map and list of homes.
UID:e.304.443
SEQUENCE:3
DTSTAMP:20260422T010604Z
URL:https://cm.newalbanychamber.com/events/details/spring-home-tour-in-new-albany-04-18-2009-443
END:VEVENT

END:VCALENDAR
