BEGIN:VCALENDAR
VERSION:2.0
PRODID:-//ChamberMaster//Event Calendar 2.0//EN
METHOD:PUBLISH
X-PUBLISHED-TTL:P3D
REFRESH-INTERVAL:P3D
CALSCALE:GREGORIAN
BEGIN:VEVENT
DTSTART;VALUE=DATE:20080427
DTEND;VALUE=DATE:20080428
TRANSP:TRANSPARENT
X-MICROSOFT-CDO-ALLDAYEVENT:TRUE
SUMMARY:Spring Home Tours-Sponsored by New Albany Realty
DESCRIPTION:Spring Home TourPlease make your first stop at our sales office located at 220 Market Street\, Ste D for a map and list of all homes open for your viewing pleasure.Sponsored by New Albany Realty
X-ALT-DESC;FMTTYPE=text/html:<p>Spring Home Tour</p><p>Please make your first stop at our sales office located at 220 Market Street\, Ste D for a map and list of all homes open for your viewing pleasure.</p><p>Sponsored by New Albany Realty</p>
LOCATION:Spring Home TourPlease make your first stop at our sales office located at 220 Market Street\, Ste D for a map and list of all homes open for your viewing pleasure.Sponsored by New Albany Realty
UID:e.304.182
SEQUENCE:3
DTSTAMP:20260422T202644Z
URL:https://cm.newalbanychamber.com/events/details/spring-home-tours-sponsored-by-new-albany-realty-04-27-2008-182
END:VEVENT

END:VCALENDAR
