BEGIN:VCALENDAR
VERSION:2.0
PRODID:-//ChamberMaster//Event Calendar 2.0//EN
METHOD:PUBLISH
X-PUBLISHED-TTL:P3D
REFRESH-INTERVAL:P3D
CALSCALE:GREGORIAN
BEGIN:VEVENT
DTSTART:20250510T153000Z
DTEND:20250510T163000Z
X-MICROSOFT-CDO-ALLDAYEVENT:FALSE
SUMMARY:Spring Jigsaw Puzzle Exchange
DESCRIPTION:Give a puzzle and take a new-to-you puzzle at the jigsaw puzzle exchange! Bring your gently used puzzles (no missing pieces\, please) in the original box and take home new-to-you puzzles to stock up for the summer months ahead!
X-ALT-DESC;FMTTYPE=text/html:Give a puzzle and take a new-to-you puzzle at the jigsaw puzzle exchange! Bring your gently used puzzles (no missing pieces\, please) in the original box and take home new-to-you puzzles to stock up for the summer months ahead!
LOCATION:New Albany Library 200 Market Street New Albany\, OH 43054
UID:e.304.20282
SEQUENCE:3
DTSTAMP:20260420T221102Z
URL:https://cm.newalbanychamber.com/events/details/spring-jigsaw-puzzle-exchange-20282
END:VEVENT

END:VCALENDAR
