BEGIN:VCALENDAR
VERSION:2.0
PRODID:-//ChamberMaster//Event Calendar 2.0//EN
METHOD:PUBLISH
X-PUBLISHED-TTL:P3D
REFRESH-INTERVAL:P3D
CALSCALE:GREGORIAN
BEGIN:VEVENT
DTSTART:20090217T123000Z
DTEND:20090217T142500Z
X-MICROSOFT-CDO-ALLDAYEVENT:FALSE
SUMMARY:Spring Preview & Networking at Tailfeathers Boutique
DESCRIPTION:Tailfeathers Boutique\, 31 N. High St\, invites New Albany businesswomen to a "Spring Preview" open house and networking session from 7:30 - 9:30 a.m. on Tuesday\, February 17.  See the latest apparel\, handbags\, and jewelry (plus get 15% off your entire purchase) from Tailfeathers\, get great gift ideas from Wayside Flower Shoppe\, and network with local businesswomen.  A light breakfast will be served and attendees can register to win a $250 handbag\, a gift basket from Wayside\, and other prizes.
X-ALT-DESC;FMTTYPE=text/html:Tailfeathers Boutique\, 31 N. High St\, invites New Albany businesswomen to a "Spring Preview" open house and networking session from 7:30 - 9:30 a.m. on Tuesday\, February 17.  See the latest apparel\, handbags\, and jewelry (plus get 15% off your entire purchase) from Tailfeathers\, get great gift ideas from Wayside Flower Shoppe\, and network with local businesswomen.  A light breakfast will be served and attendees can register to win a $250 handbag\, a gift basket from Wayside\, and other prizes.   \n
LOCATION:Tailfeathers Boutique\, 31 N. High St.
UID:e.304.416
SEQUENCE:3
DTSTAMP:20260422T040439Z
URL:https://cm.newalbanychamber.com/events/details/spring-preview-networking-at-tailfeathers-boutique-02-17-2009-416
END:VEVENT

END:VCALENDAR
