BEGIN:VCALENDAR
VERSION:2.0
PRODID:-//ChamberMaster//Event Calendar 2.0//EN
METHOD:PUBLISH
X-PUBLISHED-TTL:P3D
REFRESH-INTERVAL:P3D
CALSCALE:GREGORIAN
BEGIN:VEVENT
DTSTART:20110423T143000Z
DTEND:20110423T143000Z
X-MICROSOFT-CDO-ALLDAYEVENT:FALSE
SUMMARY:SpringFest Egg Hunt 2011
DESCRIPTION:The New Albany Community Events Board is pleased to announce SpringFest in New Albany. This year's event features vendors\, games\, food and a bigger than ever egg hunt with over 17\,000 eggs.\n\nSpringFest is free to the public with generous sponsors such as: Clearview Church\, Associated Orthodontics and Chi Thai.
X-ALT-DESC;FMTTYPE=text/html:The New Albany Community Events Board is pleased to announce SpringFest in New Albany. This year&#39\;s event features vendors\, games\, food and a bigger than ever egg hunt with over 17\,000 eggs.<br />\nSpringFest is free to the public with generous sponsors such as: Clearview Church\, Associated Orthodontics and Chi Thai.
LOCATION:Swickard Woods Park New Albany
UID:e.304.781
SEQUENCE:3
DTSTAMP:20260420T113031Z
URL:https://cm.newalbanychamber.com/events/details/springfest-egg-hunt-2011-781
END:VEVENT

END:VCALENDAR
