BEGIN:VCALENDAR
VERSION:2.0
PRODID:-//ChamberMaster//Event Calendar 2.0//EN
METHOD:PUBLISH
X-PUBLISHED-TTL:P3D
REFRESH-INTERVAL:P3D
CALSCALE:GREGORIAN
BEGIN:VEVENT
DTSTART;VALUE=DATE:20080401
DTEND;VALUE=DATE:20080402
TRANSP:TRANSPARENT
X-MICROSOFT-CDO-ALLDAYEVENT:TRUE
SUMMARY:St. Petersburg Ballet Theatre
DESCRIPTION:Fifty-six dancers\, full sets\, and magnificent costumes--it's Pyotr Ilyich Tchailkovsky's masterpiece ballet Swan Lake as you've never seen it before.  First performed in St. Petersburg\, Russia in 1877\, Swan Lake has become the world's most famous\, and indeed loved\, classical ballet.  The St. Petersburg Ballet Theatre was founded in 1966 as the first Theatre of Ballet in Russia\, under the management of the People's Artist of Russia\, Professor Peter Gusev.  Since then\, the high traditions of Russian Ballet have been passed on to a younger generation of artists.
X-ALT-DESC;FMTTYPE=text/html:<div>Fifty-six dancers\, full sets\, and magnificent costumes--it's Pyotr Ilyich Tchailkovsky's masterpiece ballet <em>Swan Lake</em> as you've never seen it before.&nbsp\; First performed in St. Petersburg\, Russia in 1877\, <em>Swan Lake</em> has become the world's most famous\, and indeed loved\, classical ballet.&nbsp\; The St. Petersburg Ballet Theatre was founded in 1966 as the first Theatre of Ballet in Russia\, under the management of the People's Artist of Russia\, Professor Peter Gusev.&nbsp\; Since then\, the high traditions of Russian Ballet have been passed on to a younger generation of artists.</div>
LOCATION:McCoy Center for the Arts100 W Granville StNew Albany\, OH 43054
UID:e.304.211
SEQUENCE:3
DTSTAMP:20260422T202744Z
URL:https://cm.newalbanychamber.com/events/details/st-petersburg-ballet-theatre-04-01-2008-211
END:VEVENT

END:VCALENDAR
