BEGIN:VCALENDAR
VERSION:2.0
PRODID:-//ChamberMaster//Event Calendar 2.0//EN
METHOD:PUBLISH
X-PUBLISHED-TTL:P3D
REFRESH-INTERVAL:P3D
CALSCALE:GREGORIAN
BEGIN:VEVENT
DTSTART:20100712T130000Z
DTEND:20100716T180000Z
X-MICROSOFT-CDO-ALLDAYEVENT:FALSE
SUMMARY:Summer Art Camp
DESCRIPTION:New Albany Arts Council presents 17th Annual Summer Art Camp for children ages 5 - 14!
X-ALT-DESC;FMTTYPE=text/html:New Albany Arts Council presents 17th Annual Summer Art Camp for children ages 5 - 14!
LOCATION:New Albany Middle School\, 6600 E. Dublin-Granville Rd.\, New Albany\, Ohio
UID:e.304.542
SEQUENCE:3
DTSTAMP:20260421T022116Z
URL:https://cm.newalbanychamber.com/events/details/summer-art-camp-07-12-2010-542
END:VEVENT

END:VCALENDAR
