BEGIN:VCALENDAR
VERSION:2.0
PRODID:-//ChamberMaster//Event Calendar 2.0//EN
METHOD:PUBLISH
X-PUBLISHED-TTL:P3D
REFRESH-INTERVAL:P3D
CALSCALE:GREGORIAN
BEGIN:VEVENT
DTSTART:20250528T213000Z
DTEND:20250529T000000Z
X-MICROSOFT-CDO-ALLDAYEVENT:FALSE
SUMMARY:Summer Starts with You! JIS Orthopedics Patient Appreciation Event
DESCRIPTION:Join us for valuable insights from our orthopedic experts and learn more about our 360  Joint Assessment as we say "Thank You" to our amazing patients. Enjoy light refreshments\, take a guided tour of our New Albany facility including our physical therapy space\, speak to and hear from JIS physicians as they discuss common orthopedic conditions like arthritis and back pain. A short Q&A will follow.
X-ALT-DESC;FMTTYPE=text/html:Join us for valuable insights from our orthopedic experts and learn more about our 360&ordm\; Joint Assessment as we say &ldquo\;Thank You&rdquo\; to our amazing patients. Enjoy light refreshments\, take a guided tour of our New Albany facility&mdash\;including our physical therapy space\, speak to and hear from JIS physicians as they discuss common orthopedic conditions like arthritis and back pain. A short Q&amp\;A will follow.
LOCATION:JIS New Albany Office 7277 Smith's Mill Road New Albany\, OH 43054
UID:e.304.20444
SEQUENCE:3
DTSTAMP:20260420T221509Z
URL:https://cm.newalbanychamber.com/events/details/summer-starts-with-you-jis-orthopedics-patient-appreciation-event-20444
END:VEVENT

END:VCALENDAR
