BEGIN:VCALENDAR
VERSION:2.0
PRODID:-//ChamberMaster//Event Calendar 2.0//EN
METHOD:PUBLISH
X-PUBLISHED-TTL:P3D
REFRESH-INTERVAL:P3D
CALSCALE:GREGORIAN
BEGIN:VEVENT
DTSTART;VALUE=DATE:20080716
DTEND;VALUE=DATE:20080717
TRANSP:TRANSPARENT
X-MICROSOFT-CDO-ALLDAYEVENT:TRUE
SUMMARY:Super Suppers Tasting Party
DESCRIPTION:Super Suppers Tasting PartyNew Albany Chamber Members are invited to visit the store and assemble a free half size entree on Wednesday\, July 16th at 12:00.  They will provide samples of July's menu for you to enjoy while you make your meal.All attendees will recieve 10% off purchases made during the event.  RSVP's are required
X-ALT-DESC;FMTTYPE=text/html:<div>Super Suppers Tasting Party</div><div>New Albany Chamber Members are invited to visit the store and assemble a free half size entree on Wednesday\, July 16th at 12:00.&nbsp\; They will provide samples of July's menu for you to enjoy while you make your meal.</div><div>All attendees will recieve 10% off purchases made during the event.&nbsp\; RSVP's are required</div>
LOCATION:Super Suppers5324 N. Hamilton Rd.Columbus\, Ohio 43230
UID:e.304.239
SEQUENCE:3
DTSTAMP:20260422T143745Z
URL:https://cm.newalbanychamber.com/events/details/super-suppers-tasting-party-07-16-2008-239
END:VEVENT

END:VCALENDAR
