BEGIN:VCALENDAR
VERSION:2.0
PRODID:-//ChamberMaster//Event Calendar 2.0//EN
METHOD:PUBLISH
X-PUBLISHED-TTL:P3D
REFRESH-INTERVAL:P3D
CALSCALE:GREGORIAN
BEGIN:VEVENT
DTSTART:20090218T163000Z
DTEND:20090218T220000Z
X-MICROSOFT-CDO-ALLDAYEVENT:FALSE
SUMMARY:SWAN's Academy Award Movie Showing
DESCRIPTION:On Wednesday\, February 18th SWANS are going to enjoy a box lunch and movie screening in the home theatre at Penny Jackson's home in New Albany! We are tentatively planning to show. Vicki Christina Barcelona - Penelope Cruz is nominated for an academy award! Please email Kate Thomas at swans@NAWN.org for more information.
X-ALT-DESC;FMTTYPE=text/html:<div>On Wednesday\, February 18th SWANS are going to enjoy a box lunch and movie screening in the home theatre at Penny Jackson's home in New Albany! We are tentatively planning to show. Vicki Christina Barcelona - Penelope Cruz is nominated for an academy award! Please email Kate Thomas at swans@NAWN.org for more information.</div>
LOCATION:7380 Lambton Park Road\, New Albany\, OH 43054
UID:e.304.412
SEQUENCE:3
DTSTAMP:20260422T055322Z
URL:https://cm.newalbanychamber.com/events/details/swan-s-academy-award-movie-showing-02-18-2009-412
END:VEVENT

END:VCALENDAR
