BEGIN:VCALENDAR
VERSION:2.0
PRODID:-//ChamberMaster//Event Calendar 2.0//EN
METHOD:PUBLISH
X-PUBLISHED-TTL:P3D
REFRESH-INTERVAL:P3D
CALSCALE:GREGORIAN
BEGIN:VEVENT
DTSTART:20090923T143000Z
DTEND:20090923T163000Z
X-MICROSOFT-CDO-ALLDAYEVENT:FALSE
SUMMARY:SWAN's Bead Party at Ally Beads and Lunch
DESCRIPTION:SWANS are getting creative in September!  Gail Klabunde and Lorraine Spahr have planned a beading party at Ally Beads in Gahanna on Wednesday\, September 23rd from 10:30 to 12:30 followed by lunch at Cap City.  We will meet at Ally Beads located at 4880 Thompson Road.  At 12:30 we will head over to Stoneridge for lunch at Cap City.  \n \nYou can create a new necklace\, bracelet or earrings for yourself or maybe an early Holiday gift!  Cost for the event is $6/per person plus the cost of materials you select.  Ally Beads recommends that you stop by the store before the party to get familiar with bead selection and what you might want to create.   \nPlease Rsvp to Gail Klabunde by Monday\, September 21st by email at swans@nawn.org or by phone at 775-0456.  Hope we'll see you there
X-ALT-DESC;FMTTYPE=text/html:SWANS are getting creative in September!  Gail Klabunde and Lorraine Spahr have planned a beading party at Ally Beads in Gahanna on Wednesday\, September 23rd from 10:30 to 12:30 followed by lunch at Cap City.  We will meet at Ally Beads located at 4880 Thompson Road.  At 12:30 we will head over to Stoneridge for lunch at Cap City.  \n \nYou can create a new necklace\, bracelet or earrings for yourself or maybe an early Holiday gift!  Cost for the event is $6/per person plus the cost of materials you select.  Ally Beads recommends that you stop by the store before the party to get familiar with bead selection and what you might want to create.   \nPlease Rsvp to Gail Klabunde by Monday\, September 21st by email at swans@nawn.org or by phone at 775-0456.  Hope we'll see you there
LOCATION:Ally Beads on Thompson Road and Cap City at Stoneridge
UID:e.304.495
SEQUENCE:3
DTSTAMP:20260421T190653Z
URL:https://cm.newalbanychamber.com/events/details/swan-s-bead-party-at-ally-beads-and-lunch-09-23-2009-495
END:VEVENT

END:VCALENDAR
