BEGIN:VCALENDAR
VERSION:2.0
PRODID:-//ChamberMaster//Event Calendar 2.0//EN
METHOD:PUBLISH
X-PUBLISHED-TTL:P3D
REFRESH-INTERVAL:P3D
CALSCALE:GREGORIAN
BEGIN:VEVENT
DTSTART:20090812T140000Z
DTEND:20090812T180000Z
X-MICROSOFT-CDO-ALLDAYEVENT:FALSE
SUMMARY:SWAN's Chihuly Event and Lunch
DESCRIPTION:On Wednesday\, August 12th\, SWANS will be attending the "Chihuly Reimagined" exhibit at the Franklin Park Conservatory followed by lunch at Giuseppe's Italian Restaurant in Bexley.  \n \nJoin us for a walk through the new Chihuly glass sculpture exhibit at the Franklin Park Conservatory.  Plan to be impressed as we tour the amazing plant and sculpture pairings of the exhibit which recently opened. The conservatory is located at 1777 East Broad St.   You can visit the Conservatory's website at http://www.fpconservatory.org/.  We'll plan to arrive at the Conservatory when it opens at 10:00 a.m.  \n \nWe'll then head to Giuseppe's Italian restaurant in Bexley for lunch after our tour.  Giuseppe's is located at 2268 East Main Street right down from the Drexel Theatre.  Lunch reservations will be for Noon if you are just going to join us for lunch. \n \nWe'll meet in the front parking lot on the right of the New Albany Country Club at 9:30 a.m. for those who want to carpool.   If you don't want to carpool\, we'll see you there!  Please Rsvp to Kate Thomas by Saturday\, August 8th.  Let Kate know if you plan to carpool\, and whether you plan to go to the Conservatory\, Giuseppe's or both.  You can reach Kate at swans@NAWN.org .
X-ALT-DESC;FMTTYPE=text/html:On Wednesday\, August 12th\, SWANS will be attending the "Chihuly Reimagined" exhibit at the Franklin Park Conservatory followed by lunch at Giuseppe's Italian Restaurant in Bexley.  \n \nJoin us for a walk through the new Chihuly glass sculpture exhibit at the Franklin Park Conservatory.  Plan to be impressed as we tour the amazing plant and sculpture pairings of the exhibit which recently opened. The conservatory is located at 1777 East Broad St.   You can visit the Conservatory's website at http://www.fpconservatory.org/.  We'll plan to arrive at the Conservatory when it opens at 10:00 a.m.  \n \nWe'll then head to Giuseppe's Italian restaurant in Bexley for lunch after our tour.  Giuseppe's is located at 2268 East Main Street right down from the Drexel Theatre.  Lunch reservations will be for Noon if you are just going to join us for lunch. \n \nWe'll meet in the front parking lot on the right of the New Albany Country Club at 9:30 a.m. for those who want to carpool.   If you don't want to carpool\, we'll see you there!  Please Rsvp to Kate Thomas by Saturday\, August 8th.  Let Kate know if you plan to carpool\, and whether you plan to go to the Conservatory\, Giuseppe's or both.  You can reach Kate at swans@NAWN.org .
LOCATION:Franklin Park Conservatory and Giuseppe's Italian Restaurant
UID:e.304.484
SEQUENCE:3
DTSTAMP:20260421T190823Z
URL:https://cm.newalbanychamber.com/events/details/swan-s-chihuly-event-and-lunch-08-12-2009-484
END:VEVENT

END:VCALENDAR
