BEGIN:VCALENDAR
VERSION:2.0
PRODID:-//ChamberMaster//Event Calendar 2.0//EN
METHOD:PUBLISH
X-PUBLISHED-TTL:P3D
REFRESH-INTERVAL:P3D
CALSCALE:GREGORIAN
BEGIN:VEVENT
DTSTART:20090306T160000Z
DTEND:20090306T190000Z
X-MICROSOFT-CDO-ALLDAYEVENT:FALSE
SUMMARY:SWAN's March Event
DESCRIPTION:SWANs will attend the Ballet Met "Senior" Dress Rehearsal of Alice in Wonderland on Friday\, March 6th!  You will be enchanted as you follow Alice down the rabbit hole into a delightfully nonsensical world!  The dress rehearsal begins at 11:00 a.m. at the Capital Theatre Downtown.  This event often sells out so you will need to order your tickets early.  Tickets cost $13 each.  Lunch will follow at Due Amici\, a popular restaurant just 3 blocks from the theatre.
X-ALT-DESC;FMTTYPE=text/html:SWANs will attend the Ballet Met "Senior" Dress Rehearsal of Alice in Wonderland on Friday\, March 6th!  You will be enchanted as you follow Alice down the rabbit hole into a delightfully nonsensical world!  The dress rehearsal begins at 11:00 a.m. at the Capital Theatre Downtown.  This event often sells out so you will need to order your tickets early.  Tickets cost $13 each.  Lunch will follow at Due Amici\, a popular restaurant just 3 blocks from the theatre.
LOCATION:Capital Theatre
UID:e.304.430
SEQUENCE:3
DTSTAMP:20260422T022443Z
URL:https://cm.newalbanychamber.com/events/details/swan-s-march-event-03-06-2009-430
END:VEVENT

END:VCALENDAR
