BEGIN:VCALENDAR
VERSION:2.0
PRODID:-//ChamberMaster//Event Calendar 2.0//EN
METHOD:PUBLISH
X-PUBLISHED-TTL:P3D
REFRESH-INTERVAL:P3D
CALSCALE:GREGORIAN
BEGIN:VEVENT
DTSTART:20091103T150000Z
DTEND:20091103T170000Z
X-MICROSOFT-CDO-ALLDAYEVENT:FALSE
SUMMARY:SWAN's Tea with Tiffany's
DESCRIPTION:Christiane Brandenhorst\, Director of Tiffany and Company Easton\, will present to us the \nhistory of Tiffany's\, Tiffany's role in jewelry design\, current trends in jewelry and jewelry care.  \nPlease wear a charming hat\, or tea party frock\, or your jewels\, or Audrey Hepburn sunglasses\, \nand come prepared for FUN at our Annual SWANS tea party!\nVarious tea selections and tea pastries will be served!
X-ALT-DESC;FMTTYPE=text/html:Christiane Brandenhorst\, Director of Tiffany and Company Easton\, will present to us the \nhistory of Tiffany's\, Tiffany's role in jewelry design\, current trends in jewelry and jewelry care.  \nPlease wear a charming hat\, or tea party frock\, or your jewels\, or Audrey Hepburn sunglasses\, \nand come prepared for FUN at our Annual SWANS tea party!\nVarious tea selections and tea pastries will be served!\n
LOCATION:2413 Colt's Neck Road\, Blacklick
UID:e.304.521
SEQUENCE:3
DTSTAMP:20260421T153257Z
URL:https://cm.newalbanychamber.com/events/details/swan-s-tea-with-tiffany-s-11-03-2009-521
END:VEVENT

END:VCALENDAR
