BEGIN:VCALENDAR
VERSION:2.0
PRODID:-//ChamberMaster//Event Calendar 2.0//EN
METHOD:PUBLISH
X-PUBLISHED-TTL:P3D
REFRESH-INTERVAL:P3D
CALSCALE:GREGORIAN
BEGIN:VEVENT
DTSTART:20090417T030000Z
DTEND:20090416T180000Z
X-MICROSOFT-CDO-ALLDAYEVENT:FALSE
SUMMARY:SWAN Tour of the Cultural Arts Center and Lunch at Tony's
DESCRIPTION:A tour of the Cultural Arts Center on Thursday\, April 16th at 11:00 a.m. There's no charge for the tour. We will have lunch at Tony's Italian Ristorante in German Village following the tour. Arts Center address: Cultural Arts Center 139 West Main St. Columbus\, OH 43215 Restaurant address: Tony's Italian Ristorante 16 W Beck St Columbus\, OH 43215 If you would like to carpool\, we will meet at the New Albany Country Club Parking Lot (1st one on the right) at 10:15 and plan to leave by 10:20 since the tour is at 11am. The lunch reservation is at 12:30.
X-ALT-DESC;FMTTYPE=text/html:<div>A tour of the Cultural Arts Center on Thursday\, April 16th at 11:00 a.m. There's no charge for the tour. We will have lunch at Tony's Italian Ristorante in German Village following the tour. Arts Center address: Cultural Arts Center 139 West Main St. Columbus\, OH 43215 Restaurant address: Tony's Italian Ristorante 16 W Beck St Columbus\, OH 43215 If you would like to carpool\, we will meet at the New Albany Country Club Parking Lot (1st one on the right) at 10:15 and plan to leave by 10:20 since the tour is at 11am. The lunch reservation is at 12:30.</div>
LOCATION:Arts Center address: Cultural Arts Center 139 West Main St. Columbus\, OH 43215 Restaurant address: Tony's Italian Ristorante 16 W Beck St Columbus\, OH 43215
UID:e.304.441
SEQUENCE:3
DTSTAMP:20260422T011147Z
URL:https://cm.newalbanychamber.com/events/details/swan-tour-of-the-cultural-arts-center-and-lunch-at-tony-s-04-16-2009-441
END:VEVENT

END:VCALENDAR
