BEGIN:VCALENDAR
VERSION:2.0
PRODID:-//ChamberMaster//Event Calendar 2.0//EN
METHOD:PUBLISH
X-PUBLISHED-TTL:P3D
REFRESH-INTERVAL:P3D
CALSCALE:GREGORIAN
BEGIN:VEVENT
DTSTART;VALUE=DATE:20090916
DTEND;VALUE=DATE:20090917
TRANSP:TRANSPARENT
X-MICROSOFT-CDO-ALLDAYEVENT:TRUE
SUMMARY:Synergy Brass Quintet
DESCRIPTION:The world-renowned Synergy Brass Quintet is coming to New Albany on Wednesday\, September 16th at 7pm. This amazing event will be held at the Jeanne B. McCoy Community Center for the Arts\, 100 W Dublin Granville Road in New Albany\, 43054. For more information on the Synergy Brass Quintet go to www.synergybrass.com. Tickets are $10.00 for adults and $5.00 for students. Tickets are general admissionl no reserved seating. If there are any questions contact Venetia Bramlage at 614-245-4181 or email her at venbram@aol.com.
X-ALT-DESC;FMTTYPE=text/html:<div>The world-renowned Synergy Brass Quintet is coming to New Albany on Wednesday\, September 16th at 7pm. This amazing event will be held at the Jeanne B. McCoy Community Center for the Arts\, 100 W Dublin Granville Road in New Albany\, 43054. For more information on the Synergy Brass Quintet go to <a href="http://www.synergybrass.com">www.synergybrass.com</a>. Tickets are $10.00 for adults and $5.00 for students. Tickets are general admissionl no reserved seating. If there are any questions contact Venetia Bramlage at 614-245-4181 or email her at <a href="mailto:venbram@aol.com">venbram@aol.com</a>.</div>
LOCATION:
UID:e.304.475
SEQUENCE:3
DTSTAMP:20260421T190237Z
URL:https://cm.newalbanychamber.com/events/details/synergy-brass-quintet-09-16-2009-475
END:VEVENT

END:VCALENDAR
