BEGIN:VCALENDAR
VERSION:2.0
PRODID:-//ChamberMaster//Event Calendar 2.0//EN
METHOD:PUBLISH
X-PUBLISHED-TTL:P3D
REFRESH-INTERVAL:P3D
CALSCALE:GREGORIAN
BEGIN:VEVENT
DTSTART:20110615T163000Z
DTEND:20110615T173000Z
X-MICROSOFT-CDO-ALLDAYEVENT:FALSE
SUMMARY:Target your Market Workshop
DESCRIPTION:FREE Workshop on how to use your library tools to development targeted marketing for your business and organization.  You are welcome to bring your own lunch.
X-ALT-DESC;FMTTYPE=text/html:FREE Workshop on how to use your library tools to development targeted marketing for your business and organization.&nbsp\; You are welcome to bring your own lunch.
LOCATION:200 Market Street New Albany\, Ohio New Albany Library meeting room.
UID:e.304.813
SEQUENCE:3
DTSTAMP:20260420T083435Z
URL:https://cm.newalbanychamber.com/events/details/target-your-market-workshop-06-15-2011-813
END:VEVENT

END:VCALENDAR
