BEGIN:VCALENDAR
VERSION:2.0
PRODID:-//ChamberMaster//Event Calendar 2.0//EN
METHOD:PUBLISH
X-PUBLISHED-TTL:P3D
REFRESH-INTERVAL:P3D
CALSCALE:GREGORIAN
BEGIN:VEVENT
DTSTART;VALUE=DATE:20080131
DTEND;VALUE=DATE:20080201
TRANSP:TRANSPARENT
X-MICROSOFT-CDO-ALLDAYEVENT:TRUE
SUMMARY:Task Force Sign-ups Due
DESCRIPTION:Task Force sign-ups Due.  Join the chamber task forces and be a part an exciting group of chamber members.  Golf\, Membership\, Ambassadors and Taste of New Albany\, to name a few\, have openings.
X-ALT-DESC;FMTTYPE=text/html:<div>Task Force sign-ups Due.&nbsp\; Join the chamber task forces and be a part an exciting group of chamber members.&nbsp\; Golf\, Membership\, Ambassadors and Taste of New Albany\, to name a few\, have openings.</div>
LOCATION:Call the chamber office to sign up. 614-855-4400.
UID:e.304.4
SEQUENCE:3
DTSTAMP:20260424T103149Z
URL:https://cm.newalbanychamber.com/events/details/task-force-sign-ups-due-01-31-2008-4
END:VEVENT

END:VCALENDAR
