BEGIN:VCALENDAR
VERSION:2.0
PRODID:-//ChamberMaster//Event Calendar 2.0//EN
METHOD:PUBLISH
X-PUBLISHED-TTL:P3D
REFRESH-INTERVAL:P3D
CALSCALE:GREGORIAN
BEGIN:VEVENT
DTSTART;VALUE=DATE:20100324
DTEND;VALUE=DATE:20100325
TRANSP:TRANSPARENT
X-MICROSOFT-CDO-ALLDAYEVENT:TRUE
SUMMARY:Taste 2010 Task Force #1
DESCRIPTION:The New Albany Chamber of Commerce extends an invitation for members to join the Taste of New Albany 2010 Task Force. Join this exciting group as they help plan the event that showcases the area's finest restaurant and caterers\, along with a host of top vendors.The first planning session is Wednesday\, March 24th\, from 11:30 am until 1:00 pm. It will be held at the Rusty Bucket Corner Tavern\, 180 Market Street\, New Albany 43054.For more information\, call 614-855-4400 or email Eileen Leuby at director@newalbanychamber.com.
X-ALT-DESC;FMTTYPE=text/html:<div>The New Albany&nbsp\;Chamber of Commerce extends an invitation for members to join the Taste of New Albany 2010 Task Force. Join this exciting group as they help plan the event that showcases the area's finest restaurant and caterers\, along with a host of top vendors.</div><div>The first planning session is Wednesday\, March 24th\, from 11:30 am until 1:00 pm. It will be held at the Rusty Bucket Corner&nbsp\;Tavern\, 180 Market Street\, New Albany 43054.</div><div>For more information\, call 614-855-4400 or email Eileen Leuby at <a href="mailto:director@newalbanychamber.com">director@newalbanychamber.com</a>.</div>
LOCATION:Rusty Bucket Corner Tavern180 Market StreetNew Albany\, Ohio 43054
UID:e.304.616
SEQUENCE:3
DTSTAMP:20260421T084723Z
URL:https://cm.newalbanychamber.com/events/details/taste-2010-task-force-1-03-24-2010-616
END:VEVENT

END:VCALENDAR
