BEGIN:VCALENDAR
VERSION:2.0
PRODID:-//ChamberMaster//Event Calendar 2.0//EN
METHOD:PUBLISH
X-PUBLISHED-TTL:P3D
REFRESH-INTERVAL:P3D
CALSCALE:GREGORIAN
BEGIN:VEVENT
DTSTART;VALUE=DATE:20100519
DTEND;VALUE=DATE:20100520
TRANSP:TRANSPARENT
X-MICROSOFT-CDO-ALLDAYEVENT:TRUE
SUMMARY:Taste 2010 Task Force #3
DESCRIPTION:The New Albany Chamber of Commerce extends an invitation for members to join the Taste of New Albany 2010 Task Force. Join this exciting group as they help plan the event that showcases the area's finest restaurant and caterers\, along with a host of top vendors.This third planning session is Wednesday\, May 19th\, from 11:30 am until 1:00 pm. It will be held at Cap City Diner\, 1301 Stoneridge Drive\, Gahanna 43230.For more information\, call 614-855-4400 or email Eileen Leuby at director@newalbanychamber.com.
X-ALT-DESC;FMTTYPE=text/html:<div><div>The New Albany&nbsp\;Chamber of Commerce extends an invitation for members to join the Taste of New Albany 2010 Task Force. Join this exciting group as they help plan the event that showcases the area's finest restaurant and caterers\, along with a host of top vendors.</div><div>This third planning session is Wednesday\, May 19th\, from 11:30 am until 1:00 pm. It will be held at Cap City Diner\,&nbsp\;1301 Stoneridge Drive\, Gahanna 43230.</div><div>For more information\, call 614-855-4400 or email Eileen Leuby at <a href="mailto:director@newalbanychamber.com">director@newalbanychamber.com</a>.</div></div>
LOCATION:Cap City Diner1301 Stoneridge DriveGahanna\, Ohio 43230
UID:e.304.618
SEQUENCE:3
DTSTAMP:20260421T053009Z
URL:https://cm.newalbanychamber.com/events/details/taste-2010-task-force-3-05-19-2010-618
END:VEVENT

END:VCALENDAR
