BEGIN:VCALENDAR
VERSION:2.0
PRODID:-//ChamberMaster//Event Calendar 2.0//EN
METHOD:PUBLISH
X-PUBLISHED-TTL:P3D
REFRESH-INTERVAL:P3D
CALSCALE:GREGORIAN
BEGIN:VEVENT
DTSTART;VALUE=DATE:20100623
DTEND;VALUE=DATE:20100624
TRANSP:TRANSPARENT
X-MICROSOFT-CDO-ALLDAYEVENT:TRUE
SUMMARY:Taste 2010 Task Force #4
DESCRIPTION:The New Albany Chamber of Commerce extends an invitation for members to join the Taste of New Albany 2010 Task Force. Join this exciting group as they help plan the event that showcases the area's finest restaurant and caterers\, along with a host of top vendors.This fourth planning session is Wednesday\, June 23rd\, from 11:30 am until 1:00 pm. It will be held at Rise and Dine\, 5481 New Albany Road W\, New Albany 43054.For more information\, call 614-855-4400 or email Eileen Leuby at director@newalbanychamber.com.
X-ALT-DESC;FMTTYPE=text/html:<div><div>The New Albany&nbsp\;Chamber of Commerce extends an invitation for members to join the Taste of New Albany 2010 Task Force. Join this exciting group as they help plan the event that showcases the area's finest restaurant and caterers\, along with a host of top vendors.</div><div>This fourth planning session is Wednesday\, June 23rd\, from 11:30 am until 1:00 pm. It will be held at Rise and Dine\,&nbsp\;5481 New Albany Road W\,&nbsp\;New Albany 43054.</div><div>For more information\, call 614-855-4400 or email Eileen Leuby at <a href="mailto:director@newalbanychamber.com">director@newalbanychamber.com</a>.</div></div>
LOCATION:Rise and Dine5481 New Albany Road WNew Albany\, Ohio 43054
UID:e.304.619
SEQUENCE:3
DTSTAMP:20260421T034205Z
URL:https://cm.newalbanychamber.com/events/details/taste-2010-task-force-4-06-23-2010-619
END:VEVENT

END:VCALENDAR
