BEGIN:VCALENDAR
VERSION:2.0
PRODID:-//ChamberMaster//Event Calendar 2.0//EN
METHOD:PUBLISH
X-PUBLISHED-TTL:P3D
REFRESH-INTERVAL:P3D
CALSCALE:GREGORIAN
BEGIN:VEVENT
DTSTART;VALUE=DATE:20100721
DTEND;VALUE=DATE:20100722
TRANSP:TRANSPARENT
X-MICROSOFT-CDO-ALLDAYEVENT:TRUE
SUMMARY:Taste 2010 Task Force #5
DESCRIPTION:The New Albany Chamber of Commerce extends an invitation for members to join the Taste of New Albany 2010 Task Force. Join this exciting group as they help plan the event that showcases the area's finest restaurant and caterers\, along with a host of top vendors.This final planning session is Wednesday\, July 21st\, from 11:30 am until 1:00 pm. It will be held at Hoggy's Barn & Grill\, 1370 Johnstown Road\, Gahanna 43230.For more information\, call 614-855-4400 or email Eileen Leuby at director@newalbanychamber.com.
X-ALT-DESC;FMTTYPE=text/html:<div><div>The New Albany&nbsp\;Chamber of Commerce extends an invitation for members to join the Taste of New Albany 2010 Task Force. Join this exciting group as they help plan the event that showcases the area's finest restaurant and caterers\, along with a host of top vendors.</div><div>This final planning session is Wednesday\,&nbsp\;July 21st\,&nbsp\;from 11:30 am until 1:00 pm. It will be held at Hoggy's Barn &amp\;&nbsp\;Grill\, 1370 Johnstown Road\, Gahanna 43230.</div><div>For more information\, call 614-855-4400 or email Eileen Leuby at <a href="mailto:director@newalbanychamber.com">director@newalbanychamber.com</a>.</div></div>
LOCATION:Hoggy's Barn & Grill1370 Johnstown RoadGahanna\, Ohio 43230
UID:e.304.620
SEQUENCE:3
DTSTAMP:20260421T032302Z
URL:https://cm.newalbanychamber.com/events/details/taste-2010-task-force-5-07-21-2010-620
END:VEVENT

END:VCALENDAR
