BEGIN:VCALENDAR
VERSION:2.0
PRODID:-//ChamberMaster//Event Calendar 2.0//EN
METHOD:PUBLISH
X-PUBLISHED-TTL:P3D
REFRESH-INTERVAL:P3D
CALSCALE:GREGORIAN
BEGIN:VEVENT
DTSTART;VALUE=DATE:20080817
DTEND;VALUE=DATE:20080818
TRANSP:TRANSPARENT
X-MICROSOFT-CDO-ALLDAYEVENT:TRUE
SUMMARY:Taste of New Albany 2008
DESCRIPTION:Annual Taste of New Albany 2008\n\nwith Grand Event sponsors: \n\nElite Dental\, New Albany Cleaners\, Fifth Third Bank\, Discover Financial Services and the Village of New Albany.\n\n \n\nFeaturing the Columbus Jazz Orchestra and\n\nover 30 restaurants and caterers from around the area showcasing their cuisine.  Come and sample while listening to the great Jazz concert.\n\nCall the Chamber for availabilty of Reserve tickets.  \n\n$35 per person or $300 for tables of 10.\n\nA Limited amount of Non-Reserve tickets will be availabe for purchase Sunday Evening.\n\n \n\nOver 20 Non-Food vendors will showcase their business opportunities that are available.\n\n \n\nThe concert is free to attend.
X-ALT-DESC;FMTTYPE=text/html:<div><font size="3"><strong>Annual Taste of New Albany 2008</strong></font></div>\n\n<div><font size="3"><strong>with Grand Event sponsors: </strong></font></div>\n\n<div><font size="3"><strong>Elite Dental\, New Albany Cleaners\, Fifth Third Bank\, Discover Financial Services and the&nbsp\;Village of New Albany.</strong></font></div>\n\n<div>&nbsp\;</div>\n\n<div><font size="2"><strong>Featuring the Columbus Jazz Orchestra and</strong></font></div>\n\n<div><font size="2"><strong>over 30 restaurants and caterers from around the area showcasing their cuisine.&nbsp\; Come and sample while listening to the great Jazz concert.</strong></font></div>\n\n<div><font color="#ff0000" size="2"><strong><em>Call the Chamber for availabilty of Reserve tickets.&nbsp\; </em></strong></font></div>\n\n<div><font color="#ff0000" size="2"><strong><em>$35 per person or $300 for tables of 10.</em></strong></font></div>\n\n<div><font color="#ff0000" size="2"><strong><em>A Limited amount of Non-Reserve tickets will be availabe for purchase Sunday Evening.</em></strong></font></div>\n\n<div>&nbsp\;</div>\n\n<div><font size="2"><strong>Over 20 Non-Food vendors will showcase their business opportunities that are available.</strong></font></div>\n\n<div>&nbsp\;</div>\n\n<div><font size="2"><strong>The concert is free to attend.</strong></font></div>\n\n<div>&nbsp\;</div>\n\n<div>&nbsp\;</div>\n
LOCATION:Market Square New Albany\, Ohio
UID:e.304.164
SEQUENCE:3
DTSTAMP:20260422T131505Z
URL:https://cm.newalbanychamber.com/events/details/taste-of-new-albany-2008-08-17-2008-164
END:VEVENT

END:VCALENDAR
