BEGIN:VCALENDAR
VERSION:2.0
PRODID:-//ChamberMaster//Event Calendar 2.0//EN
METHOD:PUBLISH
X-PUBLISHED-TTL:P3D
REFRESH-INTERVAL:P3D
CALSCALE:GREGORIAN
BEGIN:VEVENT
DTSTART:20090816T210000Z
DTEND:20090817T000000Z
X-MICROSOFT-CDO-ALLDAYEVENT:FALSE
SUMMARY:Taste of New Albany 2009
DESCRIPTION:Taste of New Albany 2009!!\n\n \n\nEnjoy an evening of execellent cuisine and entertainment!  Over 25 restaurants and 18 Non-food vendors will offer selections to sample.  Restaurants such as: Bel-Lago Waterfront Bistro\, Cap City\, City BBQ\, Rusty Bucket\, Sams Club\, Gameworks\, Hoggy's\, Creekside Event and Conference Center\, Epicures\, New Albany Gardens and Care Center and East Golf Club are just a few.\n\n \n\nThanks to sponsors such as: Elite Dental\, Village of New Albany\, Discover Financial\, Estates of New Albany and most of all our Premiere Sponsor-UBS Financial Services.\n\n \n\nReserve Seats will be available for $35 each or tables of 10 may be purchased for $300.  Ticket sales will be available\, June 1st by calling the chamber office: 855-4400.
X-ALT-DESC;FMTTYPE=text/html:<div><strong><font size="2">Taste of New Albany 2009!!</font></strong></div>\n\n<div>&nbsp\;</div>\n\n<div><font size="2">Enjoy an evening of execellent cuisine and entertainment!&nbsp\; Over 25 restaurants and 18 Non-food vendors will offer selections to sample.&nbsp\; Restaurants such as: Bel-Lago Waterfront Bistro\, Cap City\, City BBQ\,&nbsp\;Rusty Bucket\,&nbsp\;Sams Club\, Gameworks\, Hoggy&rsquo\;s\, Creekside Event and Conference Center\, Epicures\, New Albany Gardens and Care Center and East Golf Club&nbsp\;are just a few.</font></div>\n\n<div>&nbsp\;</div>\n\n<div><font size="2">Thanks to sponsors such as: Elite Dental\, Village of New Albany\, Discover Financial\, Estates of New Albany and most of all our Premiere Sponsor-UBS Financial Services.</font></div>\n\n<div>&nbsp\;</div>\n\n<div><font size="2">Reserve Seats will be available for $35 each or tables of 10 may be purchased for $300.&nbsp\; Ticket sales will be available\, June 1st by calling the chamber office: 855-4400.</font></div>\n
LOCATION:Market Square New Albany\, Ohio
UID:e.304.372
SEQUENCE:3
DTSTAMP:20260421T202839Z
URL:https://cm.newalbanychamber.com/events/details/taste-of-new-albany-2009-08-16-2009-372
END:VEVENT

END:VCALENDAR
