BEGIN:VCALENDAR
VERSION:2.0
PRODID:-//ChamberMaster//Event Calendar 2.0//EN
METHOD:PUBLISH
X-PUBLISHED-TTL:P3D
REFRESH-INTERVAL:P3D
CALSCALE:GREGORIAN
BEGIN:VEVENT
DTSTART:20100808T210000Z
DTEND:20100808T210000Z
X-MICROSOFT-CDO-ALLDAYEVENT:FALSE
SUMMARY:Taste of New Albany 2010
DESCRIPTION:Taste of New Albany 2010\n\n5-8 p.m.\n\nTickets are availble now and may be purchased at the chamber office or online.\n\nPlease note that Visa\, Mastercard and Discover are excepted. We cannot use American Express\n\nTickets are $35 each or Tables of 10 for $300.\n\nEach ticket holder will receive unlimited sampling from all restaurant vendors\, your choice of bottled water\, and soft drink. Wine and Beer may be purchased at the event.\n\nPlease note that No Acoholic Beverages are allowed to be brought into the event.\n\nPurchase your reserve table or ask how you can showcase your company at this great community event.\n\nCome and enjoy the Columbus Jazz Orchestra.\n\nMarket Square\n\nSponsored by the New Albany Chamber\n\nwatch for more detail or call the chamber office at 855-4400.
X-ALT-DESC;FMTTYPE=text/html:<div style="text-align: center"><span style="font-size: small"><strong>Taste of New Albany 2010</strong></span></div>\n\n<div style="text-align: center"><span style="font-size: small"><strong>5-8 p.m.</strong></span></div>\n\n<div style="text-align: center"><span style="font-size: small"><strong>Tickets are availble now and may be purchased at the chamber office or online.</strong></span></div>\n\n<div style="text-align: center"><strong><em>Please note that Visa\, Mastercard and Discover are excepted. We cannot use American Express</em></strong></div>\n\n<div style="text-align: center"><span style="font-size: small"><strong>Tickets are $35 each or Tables of 10 for $300.</strong></span></div>\n\n<div>Each ticket holder will receive unlimited sampling from all restaurant vendors\, your choice of bottled water\, and soft drink. Wine and Beer may be purchased at the event.</div>\n\n<div>Please note that No Acoholic Beverages are allowed to be brought into the event.</div>\n\n<div>Purchase your reserve table or ask how you can showcase your company at this great community event.</div>\n\n<div>Come and enjoy the Columbus Jazz Orchestra.</div>\n\n<div>Market Square</div>\n\n<div>Sponsored by the New Albany Chamber</div>\n\n<div>watch for more detail or call the chamber office at 855-4400.</div>\n
LOCATION:Market Street
UID:e.304.566
SEQUENCE:3
DTSTAMP:20260421T022539Z
URL:https://cm.newalbanychamber.com/events/details/taste-of-new-albany-2010-08-08-2010-566
END:VEVENT

END:VCALENDAR
