BEGIN:VCALENDAR
VERSION:2.0
PRODID:-//ChamberMaster//Event Calendar 2.0//EN
METHOD:PUBLISH
X-PUBLISHED-TTL:P3D
REFRESH-INTERVAL:P3D
CALSCALE:GREGORIAN
BEGIN:VEVENT
DTSTART:20260603T180000Z
DTEND:20260603T180000Z
X-MICROSOFT-CDO-ALLDAYEVENT:FALSE
SUMMARY:Taste of New Albany Committee Meeting
DESCRIPTION:Chamber Taste of New Albany Committee Meeting
X-ALT-DESC;FMTTYPE=text/html:<strong><a href="https://www.newalbanychamber.com/committees/" target="_blank"><span style="color:#000000\;">Chamber Taste of New Albany Committee Meeting</span></a></strong>
LOCATION:
UID:e.304.21939
SEQUENCE:3
DTSTAMP:20260420T160944Z
URL:https://cm.newalbanychamber.com/events/details/taste-of-new-albany-committee-meeting-21939
END:VEVENT

END:VCALENDAR
