BEGIN:VCALENDAR
VERSION:2.0
PRODID:-//ChamberMaster//Event Calendar 2.0//EN
METHOD:PUBLISH
X-PUBLISHED-TTL:P3D
REFRESH-INTERVAL:P3D
CALSCALE:GREGORIAN
BEGIN:VEVENT
DTSTART:20090325T160000Z
DTEND:20090325T170000Z
X-MICROSOFT-CDO-ALLDAYEVENT:FALSE
SUMMARY:Taste of New Albany Task Force Meeting
DESCRIPTION:Taste of New Albany Task Force for 2009
X-ALT-DESC;FMTTYPE=text/html:<p>Taste of New Albany Task Force for 2009</p>\n
LOCATION:Rusty Bucket\, 180 Market Street Private Room
UID:e.304.419
SEQUENCE:3
DTSTAMP:20260422T022906Z
URL:https://cm.newalbanychamber.com/events/details/taste-of-new-albany-task-force-meeting-03-25-2009-419
END:VEVENT

END:VCALENDAR
