BEGIN:VCALENDAR
VERSION:2.0
PRODID:-//ChamberMaster//Event Calendar 2.0//EN
METHOD:PUBLISH
X-PUBLISHED-TTL:P3D
REFRESH-INTERVAL:P3D
CALSCALE:GREGORIAN
BEGIN:VEVENT
DTSTART;VALUE=DATE:20080311
DTEND;VALUE=DATE:20080312
TRANSP:TRANSPARENT
X-MICROSOFT-CDO-ALLDAYEVENT:TRUE
SUMMARY:Taste of New Albany Task Force Meeting
DESCRIPTION:Taste of New Albany 2008\n\nTask Force meeting
X-ALT-DESC;FMTTYPE=text/html:<div>Taste of New Albany 2008</div>\n\n<div>Task Force meeting</div>\n
LOCATION:New Albany Grill Formerly Gibby's New Albany Grill 29 S. High Street\, New Albany
UID:e.304.178
SEQUENCE:3
DTSTAMP:20260422T202519Z
URL:https://cm.newalbanychamber.com/events/details/taste-of-new-albany-task-force-meeting-178
END:VEVENT

END:VCALENDAR
