BEGIN:VCALENDAR
VERSION:2.0
PRODID:-//ChamberMaster//Event Calendar 2.0//EN
METHOD:PUBLISH
X-PUBLISHED-TTL:P3D
REFRESH-INTERVAL:P3D
CALSCALE:GREGORIAN
BEGIN:VEVENT
DTSTART:20080829T120000Z
DTEND:20080829T210000Z
X-MICROSOFT-CDO-ALLDAYEVENT:FALSE
SUMMARY:TBDBITL Alumni 20th Annual Golf Outing
DESCRIPTION:The TBDBITL Alumni Club is hosting it's 20th Annual Golf Outing to benefit The Ohio State University Marching Band.  The $125 fee per golfer includes: Breakfast\, Lunch\, Drink Tickets\, Greens Fees\, Cart Fees\, Practice Balls\, Bag Tags & Valet Bag Drop Service and Locker Room Access.  A raffle will also take place throughout the day.  Join TBDBITL Alumni Band members in celebrating two decades of fun and fundraising for The Best Damn Band in the Land!
X-ALT-DESC;FMTTYPE=text/html:The TBDBITL Alumni Club is hosting it's 20th Annual Golf Outing to benefit The Ohio State University Marching Band.  The $125 fee per golfer includes: Breakfast\, Lunch\, Drink Tickets\, Greens Fees\, Cart Fees\, Practice Balls\, Bag Tags & Valet Bag Drop Service and Locker Room Access.  A raffle will also take place throughout the day.  Join TBDBITL Alumni Band members in celebrating two decades of fun and fundraising for The Best Damn Band in the Land!  
LOCATION:Tartan East Golf Club\, 6140 Babbitt Rd.\, New Albany
UID:e.304.257
SEQUENCE:3
DTSTAMP:20260422T142900Z
URL:https://cm.newalbanychamber.com/events/details/tbdbitl-alumni-20th-annual-golf-outing-08-29-2008-257
END:VEVENT

END:VCALENDAR
