BEGIN:VCALENDAR
VERSION:2.0
PRODID:-//ChamberMaster//Event Calendar 2.0//EN
METHOD:PUBLISH
X-PUBLISHED-TTL:P3D
REFRESH-INTERVAL:P3D
CALSCALE:GREGORIAN
BEGIN:VEVENT
DTSTART:20080802T140000Z
DTEND:20080802T150000Z
X-MICROSOFT-CDO-ALLDAYEVENT:FALSE
SUMMARY:Team in Training information meeting
DESCRIPTION:Find out about The Leukemia & Lymphoma Society's Team In Training Â® (TNT)\, the world's largest endurance sports training program\, at one of our local meetings. You will meet professional coaches as well as TNT staff members\, past participants and cancer survivors.\n\nWe are now recruiting for the following winter events: \n\nWalt Disney World Marathon & 1/2 Marathon - Orlando\, Fla. (Saturday and Sunday\, Jan. 10 and 11\, 2009)  \nP.F. Chang's Rock N' Roll Marathon & 1/2 Marathon - Phoenix\, Ariz. (Sunday\, Jan. 18\, 2009) \nFill out our online Tell Me More form to register for our information meeting. Or visit our Central Ohio Leukemia & Lymphoma Society blog for the latest in chapter news.\n\nFor more information contact: \nMary Large \n614-476-7194\, ext. 259 \nmary.large@lls.org \nFor more information about this event click here.
X-ALT-DESC;FMTTYPE=text/html:Find out about The Leukemia & Lymphoma Society's Team In Training Â® (TNT)\, the world's largest endurance sports training program\, at one of our local meetings. You will meet professional coaches as well as TNT staff members\, past participants and cancer survivors.\n\nWe are now recruiting for the following winter events: \n\nWalt Disney World Marathon & 1/2 Marathon - Orlando\, Fla. (Saturday and Sunday\, Jan. 10 and 11\, 2009)  \nP.F. Chang's Rock N' Roll Marathon & 1/2 Marathon - Phoenix\, Ariz. (Sunday\, Jan. 18\, 2009) \nFill out our online Tell Me More form to register for our information meeting. Or visit our Central Ohio Leukemia & Lymphoma Society blog for the latest in chapter news.\n\nFor more information contact: \nMary Large \n614-476-7194\, ext. 259 \nmary.large@lls.org \nFor more information about this event click here. \n
LOCATION:New Albany Public Library
UID:e.304.248
SEQUENCE:3
DTSTAMP:20260422T131211Z
URL:https://cm.newalbanychamber.com/events/details/team-in-training-information-meeting-08-02-2008-248
END:VEVENT

END:VCALENDAR
