BEGIN:VCALENDAR
VERSION:2.0
PRODID:-//ChamberMaster//Event Calendar 2.0//EN
METHOD:PUBLISH
X-PUBLISHED-TTL:P3D
REFRESH-INTERVAL:P3D
CALSCALE:GREGORIAN
BEGIN:VEVENT
DTSTART:20080515T113000Z
DTEND:20080515T130000Z
X-MICROSOFT-CDO-ALLDAYEVENT:FALSE
SUMMARY:Tech Start
DESCRIPTION:The Village of New Albany will host a TechStart event on May 15th at the Jeanne B. McCoy Community Art Center\, 100 Granville Street\, New Albany.  The event is free\, but RSVP are required.Speakers will include: Joe Stefanov\, Village Administrator\, Chirs Anderson\, Business Development Representative\, TechColumbus\, and Mike Bowers\, Small Business Development Center at Columbus State. To register: www.techcolumbus.org/en/cev/?160
X-ALT-DESC;FMTTYPE=text/html:<div>The Village of New Albany will host a TechStart event on May 15th at the Jeanne B. McCoy Community Art Center\, 100 Granville Street\, New Albany.&nbsp\; The event is free\, but RSVP are required.</div><div>Speakers will include: Joe Stefanov\, Village Administrator\, Chirs Anderson\, Business Development Representative\, TechColumbus\, and Mike Bowers\, Small Business Development Center at Columbus State. To register: www.techcolumbus.org/en/cev/?160</div>
LOCATION:Jeanne B. McCoy Community Center for the Arts100 Granville StreetNew Albany\, Ohio.
UID:e.304.225
SEQUENCE:3
DTSTAMP:20260422T184632Z
URL:https://cm.newalbanychamber.com/events/details/tech-start-05-15-2008-225
END:VEVENT

END:VCALENDAR
