BEGIN:VCALENDAR
VERSION:2.0
PRODID:-//ChamberMaster//Event Calendar 2.0//EN
METHOD:PUBLISH
X-PUBLISHED-TTL:P3D
REFRESH-INTERVAL:P3D
CALSCALE:GREGORIAN
BEGIN:VEVENT
DTSTART:20081014T213000Z
DTEND:20081014T233000Z
X-MICROSOFT-CDO-ALLDAYEVENT:FALSE
SUMMARY:TechStart Entrepreneur Networking Mixer
DESCRIPTION:TechColumbus\, in conjunction with the Village of New Albany\, will host a TechStart entrepreneur networking mixer at the New Albany Country Club\, 1 Club Lane in New Albany. The free event is for local entrepreneurs\, city and county officials\, economic development professionals and business advisors interested in learning more about the TechStart program.  The second of these events will take place on Tuesday\, October 14th from 5:30 to 7:30 pm.\n\nThese entrepreneur events will give attendees the opportunity to network with others in the New Albany area community and also learn about resources available through the TechStart program.  TechStart\, Central Ohio?s Entrepreneurial Signature Program\, is led by TechColumbus and supported financially by Ohio?s Third Frontier Program and eighteen local partners including the Village of New Albany. It provides early stage funding and mentoring assistance to entrepreneurs with promising tech businesses throughout 15 counties of Central Ohio. Representatives will provide information on program offerings\, applicant eligibility\, funds available and schedules for all available resources offered.\n\nThese free networking events will be scheduled every other month and future dates will be:\n\nWednesday\, December 10 from 5:30 pm to 7:30 pm\nTuesday\, February 10 from 5:30 pm to 7:30 pm\n\nRegister at www.techcolumbus.org and go to calendar of events
X-ALT-DESC;FMTTYPE=text/html:TechColumbus\, in conjunction with the Village of New Albany\, will host a TechStart entrepreneur networking mixer at the New Albany Country Club\, 1 Club Lane in New Albany. The free event is for local entrepreneurs\, city and county officials\, economic development professionals and business advisors interested in learning more about the TechStart program.  The second of these events will take place on Tuesday\, October 14th from 5:30 to 7:30 pm.\n\nThese entrepreneur events will give attendees the opportunity to network with others in the New Albany area community and also learn about resources available through the TechStart program.  TechStart\, Central Ohio?s Entrepreneurial Signature Program\, is led by TechColumbus and supported financially by Ohio?s Third Frontier Program and eighteen local partners including the Village of New Albany. It provides early stage funding and mentoring assistance to entrepreneurs with promising tech businesses throughout 15 counties of Central Ohio. Representatives will provide information on program offerings\, applicant eligibility\, funds available and schedules for all available resources offered.\n\nThese free networking events will be scheduled every other month and future dates will be:\n\nWednesday\, December 10 from 5:30 pm to 7:30 pm\nTuesday\, February 10 from 5:30 pm to 7:30 pm\n\nRegister at www.techcolumbus.org and go to calendar of events\n
LOCATION:New Albany Country Club 1Club Lane in New Albany
UID:e.304.322
SEQUENCE:3
DTSTAMP:20260422T100827Z
URL:https://cm.newalbanychamber.com/events/details/techstart-entrepreneur-networking-mixer-10-14-2008-322
END:VEVENT

END:VCALENDAR
