BEGIN:VCALENDAR
VERSION:2.0
PRODID:-//ChamberMaster//Event Calendar 2.0//EN
METHOD:PUBLISH
X-PUBLISHED-TTL:P3D
REFRESH-INTERVAL:P3D
CALSCALE:GREGORIAN
BEGIN:VEVENT
DTSTART:20080826T213000Z
DTEND:20080826T233000Z
X-MICROSOFT-CDO-ALLDAYEVENT:FALSE
SUMMARY:TechStart Entrepreneur Networking Mixer set for New Albany
DESCRIPTION:Enjoy food and drinks while Networking and Learning Information about Resources Available for Tech Start-Ups  \n\nTechColumbus\, in conjunction with the Village of New Albany\, will host a monthly TechStart entrepreneur networking mixer at the Rusty Bucket Restaurant at 180 Market Street in New Albany. The free event is for local entrepreneurs\, city and county officials\, economic development professionals and financial advisors interested in learning more about the TechStart program.  The first of these monthly events will take place on Tuesday\, August 26 from 5:30 to 7:30 pm.\n\nThese monthly events will give attendees the opportunity to network with others in the New Albany area community and also learn about resources available through the TechStart program.  TechStart\, Central Ohio?s Entrepreneurial Signature Program\, is led by TechColumbus and supported financially by Ohio?s Third Frontier Program and eighteen local partners including the Village of New Albany. It provides early stage funding and mentoring assistance to entrepreneurs with promising tech businesses throughout 15 counties of Central Ohio. Representatives will provide information on program offerings\, applicant eligibility\, funds available and schedules for all available resources offered.
X-ALT-DESC;FMTTYPE=text/html:Enjoy food and drinks while Networking and Learning Information about Resources Available for Tech Start-Ups  \n\nTechColumbus\, in conjunction with the Village of New Albany\, will host a monthly TechStart entrepreneur networking mixer at the Rusty Bucket Restaurant at 180 Market Street in New Albany. The free event is for local entrepreneurs\, city and county officials\, economic development professionals and financial advisors interested in learning more about the TechStart program.  The first of these monthly events will take place on Tuesday\, August 26 from 5:30 to 7:30 pm.\n\nThese monthly events will give attendees the opportunity to network with others in the New Albany area community and also learn about resources available through the TechStart program.  TechStart\, Central Ohio?s Entrepreneurial Signature Program\, is led by TechColumbus and supported financially by Ohio?s Third Frontier Program and eighteen local partners including the Village of New Albany. It provides early stage funding and mentoring assistance to entrepreneurs with promising tech businesses throughout 15 counties of Central Ohio. Representatives will provide information on program offerings\, applicant eligibility\, funds available and schedules for all available resources offered.  \n
LOCATION:The Rusty Bucket Restaurant 180 Market Street New Albany Ohio 43054
UID:e.304.258
SEQUENCE:3
DTSTAMP:20260422T131333Z
URL:https://cm.newalbanychamber.com/events/details/techstart-entrepreneur-networking-mixer-set-for-new-albany-08-26-2008-258
END:VEVENT

END:VCALENDAR
