BEGIN:VCALENDAR
VERSION:2.0
PRODID:-//ChamberMaster//Event Calendar 2.0//EN
METHOD:PUBLISH
X-PUBLISHED-TTL:P3D
REFRESH-INTERVAL:P3D
CALSCALE:GREGORIAN
BEGIN:VEVENT
DTSTART:20090211T223000Z
DTEND:20090212T000000Z
X-MICROSOFT-CDO-ALLDAYEVENT:FALSE
SUMMARY:TechStart Networking Mixer
DESCRIPTION:TechStart Networking MixerFree Networking event scheduled to be held every other month.Registrations should be made by going to:  www.techcolumbus.org The entrepreneur event will give attendees the opportunity to network with others in the New Albany Area and also learn about resources available through the TechStart program. Montly sponsor:  The Fullen Law Group Co.\, LPA
X-ALT-DESC;FMTTYPE=text/html:<div>TechStart Networking Mixer</div><div>Free Networking event scheduled to be held every other month.</div><div>Registrations should be made by going to:&nbsp\; www.techcolumbus.org</div><div>&nbsp\;</div><div>The entrepreneur event will give attendees the opportunity to network with others in the New Albany Area and also learn about resources available through the TechStart program.</div><div>&nbsp\;</div><div>Montly sponsor:&nbsp\; The Fullen Law Group Co.\, LPA</div>
LOCATION:The New Albany Country ClubOne Club Lane
UID:e.304.390
SEQUENCE:3
DTSTAMP:20260422T034423Z
URL:https://cm.newalbanychamber.com/events/details/techstart-networking-mixer-02-11-2009-390
END:VEVENT

END:VCALENDAR
