BEGIN:VCALENDAR
VERSION:2.0
PRODID:-//ChamberMaster//Event Calendar 2.0//EN
METHOD:PUBLISH
X-PUBLISHED-TTL:P3D
REFRESH-INTERVAL:P3D
CALSCALE:GREGORIAN
BEGIN:VEVENT
DTSTART;VALUE=DATE:20090509
DTEND;VALUE=DATE:20090510
TRANSP:TRANSPARENT
X-MICROSOFT-CDO-ALLDAYEVENT:TRUE
SUMMARY:Temple Beth Shalom Spring Fundraiser
DESCRIPTION:Annual Fundraiser Dinner
X-ALT-DESC;FMTTYPE=text/html:Annual Fundraiser Dinner
LOCATION:5089 Johnstown Road
UID:e.304.398
SEQUENCE:3
DTSTAMP:20260421T232541Z
URL:https://cm.newalbanychamber.com/events/details/temple-beth-shalom-spring-fundraiser-05-09-2009-398
END:VEVENT

END:VCALENDAR
