BEGIN:VCALENDAR
VERSION:2.0
PRODID:-//ChamberMaster//Event Calendar 2.0//EN
METHOD:PUBLISH
X-PUBLISHED-TTL:P3D
REFRESH-INTERVAL:P3D
CALSCALE:GREGORIAN
BEGIN:VEVENT
DTSTART:20080801T230000Z
DTEND:20080802T013000Z
X-MICROSOFT-CDO-ALLDAYEVENT:FALSE
SUMMARY:Terri Albanese-Painting with Glass Reception
DESCRIPTION:Join us for the debut of exciting new works by glass mosaic artist\, Terri Albanese.
X-ALT-DESC;FMTTYPE=text/html:<div>Join us for the debut of exciting new works by glass mosaic artist\, Terri Albanese.</div>
LOCATION:Hayley Gallery
UID:e.304.252
SEQUENCE:3
DTSTAMP:20260422T131445Z
URL:https://cm.newalbanychamber.com/events/details/terri-albanese-painting-with-glass-reception-08-01-2008-252
END:VEVENT

END:VCALENDAR
