BEGIN:VCALENDAR
VERSION:2.0
PRODID:-//ChamberMaster//Event Calendar 2.0//EN
METHOD:PUBLISH
X-PUBLISHED-TTL:P3D
REFRESH-INTERVAL:P3D
CALSCALE:GREGORIAN
BEGIN:VEVENT
DTSTART:20110417T160000Z
DTEND:20110417T200000Z
X-MICROSOFT-CDO-ALLDAYEVENT:FALSE
SUMMARY:The Columbus Costco and Wedding Professional of Columbus Event
DESCRIPTION:The Columbus Costco and WPC are hosting a FREE event for Wedding Planning and Event Planning Ideas.  Local vendors\, food samples\, door prizes\, fun and Special Membership Sign Up Incentives will be offered.  Some vendors include Costco's own Florist\, Bakery\, Deli and Photo Shop.  Nelson's BBQ Catering\,Shutter Booth\, Latt'e 2 a Tea\, An Occasional Florist\, Julia's Cakes\, Embassy Suites\, Mass Appeal Catering\, and much more.
X-ALT-DESC;FMTTYPE=text/html:The Columbus Costco and WPC are hosting a FREE event for Wedding Planning and Event Planning Ideas.  Local vendors\, food samples\, door prizes\, fun and Special Membership Sign Up Incentives will be offered.  Some vendors include Costco's own Florist\, Bakery\, Deli and Photo Shop.  Nelson's BBQ Catering\,Shutter Booth\, Latt'e 2 a Tea\, An Occasional Florist\, Julia's Cakes\, Embassy Suites\, Mass Appeal Catering\, and much more.
LOCATION:1500 Gemini Place Columbus\, OH 43240
UID:e.304.797
SEQUENCE:3
DTSTAMP:20260420T114046Z
URL:https://cm.newalbanychamber.com/events/details/the-columbus-costco-and-wedding-professional-of-columbus-event-04-17-2011-797
END:VEVENT

END:VCALENDAR
