BEGIN:VCALENDAR
VERSION:2.0
PRODID:-//ChamberMaster//Event Calendar 2.0//EN
METHOD:PUBLISH
X-PUBLISHED-TTL:P3D
REFRESH-INTERVAL:P3D
CALSCALE:GREGORIAN
BEGIN:VEVENT
DTSTART:20090222T180000Z
DTEND:20090222T210000Z
X-MICROSOFT-CDO-ALLDAYEVENT:FALSE
SUMMARY:The Glass Artists of Hayley Gallery Opening Reception
DESCRIPTION:The Glass Artists of Hayley Gallery1-4 p.m.Food\, Drink & Live Music by Chris GattonFeaturing:  Terri Albanese-Powell \; Doug Frates-Columbus\; David Morgan-Columbus\; Denise Novak-Westerville\; Mike Rozell-Columbus\; Jerry Werling-Commercial Point\; Joan Zeller-Worthington.
X-ALT-DESC;FMTTYPE=text/html:<p>The Glass Artists of Hayley Gallery</p><p>1-4 p.m.</p><p>Food\, Drink &amp\; Live Music by Chris Gatton</p><p>Featuring:&nbsp\; Terri Albanese-Powell \; Doug Frates-Columbus\; David Morgan-Columbus\; Denise Novak-Westerville\; Mike Rozell-Columbus\; Jerry Werling-Commercial Point\; Joan Zeller-Worthington.</p>
LOCATION:Hayley Gallery
UID:e.304.423
SEQUENCE:3
DTSTAMP:20260422T053552Z
URL:https://cm.newalbanychamber.com/events/details/the-glass-artists-of-hayley-gallery-opening-reception-02-22-2009-423
END:VEVENT

END:VCALENDAR
