BEGIN:VCALENDAR
VERSION:2.0
PRODID:-//ChamberMaster//Event Calendar 2.0//EN
METHOD:PUBLISH
X-PUBLISHED-TTL:P3D
REFRESH-INTERVAL:P3D
CALSCALE:GREGORIAN
BEGIN:VEVENT
DTSTART:20101031T200000Z
DTEND:20101031T230000Z
X-MICROSOFT-CDO-ALLDAYEVENT:FALSE
SUMMARY:The Goddard Schools Trunk or Treat
DESCRIPTION:Trunk or Treat is an event that provides a safe family environment for your \n\nlittle trick or treaters. Our Goddard families will park their cars in our \n\nparking lot\, open their trunks and decorate them. They will then pass out candy \n\nto your children. This event is open to the public for children up to 10 years \n\nold! Child friendly costumes only please.
X-ALT-DESC;FMTTYPE=text/html:Trunk or Treat is an event that provides a safe family environment for your \n<br>little trick or treaters. Our Goddard families will park their cars in our \n<br>parking lot\, open their trunks and decorate them. They will then pass out candy \n<br>to your children. This event is open to the public for children up to 10 years \n<br>old! Child friendly costumes only please.\n<br>\n<br>
LOCATION:The Goddard School ® located at 4160 Executive Parkway
UID:e.304.715
SEQUENCE:3
DTSTAMP:20260420T211017Z
URL:https://cm.newalbanychamber.com/events/details/the-goddard-schools-trunk-or-treat-10-31-2010-715
END:VEVENT

END:VCALENDAR
