BEGIN:VCALENDAR
VERSION:2.0
PRODID:-//ChamberMaster//Event Calendar 2.0//EN
METHOD:PUBLISH
X-PUBLISHED-TTL:P3D
REFRESH-INTERVAL:P3D
CALSCALE:GREGORIAN
BEGIN:VEVENT
DTSTART:20090321T130000Z
DTEND:20090321T170000Z
X-MICROSOFT-CDO-ALLDAYEVENT:FALSE
SUMMARY:The King and I Auditions
DESCRIPTION:Auditions for children grades 3-9 for 10th annual summer musical\, The King and I.  Performance dates July 10\, 11 & 12\, 2009 at The Jeanne B. McCoy Community Center for the Arts.  Rehearsals commence week of June 8\, 2009. Audition packet should be downloaded from website.
X-ALT-DESC;FMTTYPE=text/html:Auditions for children grades 3-9 for 10th annual summer musical\, The King and I.  Performance dates July 10\, 11 & 12\, 2009 at The Jeanne B. McCoy Community Center for the Arts.  Rehearsals commence week of June 8\, 2009. Audition packet should be downloaded from website.
LOCATION:New Albany High School Choral Music room and Mini-theater\, 7600 Fodor Rd.\, New Albany\, OH
UID:e.304.426
SEQUENCE:3
DTSTAMP:20260422T022547Z
URL:https://cm.newalbanychamber.com/events/details/the-king-and-i-auditions-03-21-2009-426
END:VEVENT

END:VCALENDAR
