BEGIN:VCALENDAR
VERSION:2.0
PRODID:-//ChamberMaster//Event Calendar 2.0//EN
METHOD:PUBLISH
X-PUBLISHED-TTL:P3D
REFRESH-INTERVAL:P3D
CALSCALE:GREGORIAN
BEGIN:VEVENT
DTSTART:20110410T183000Z
DTEND:20110410T203000Z
X-MICROSOFT-CDO-ALLDAYEVENT:FALSE
SUMMARY:The Lee Brothers\, Culinary Arts
DESCRIPTION:Siblings Matt and Ted grew up in Charleston\, South Carolina. When they left to attend colleges in the Northeast\, they so missed the foods of their hometown that they founded The Lee Bros. Boiled Peanuts Catalogue\, a mail-order catalogue for southern pantry staples like stone-ground grits\, fig preserves\, and\, of course\, boiled peanuts. When an editor of a travel magazine asked them to write a story about road-tripping in their home state in search of great food\, they embarked on a second career as food and travel journalists. They currently write food stories for Travel + Leisure\, Food & Wine\, GQ\, The New York Times\, and are the wine columnists for Martha Stewart Living. Visit http://www.mccoycenter.org/ for more info.
X-ALT-DESC;FMTTYPE=text/html:Siblings Matt and Ted grew up in Charleston\, South Carolina. When they left to attend colleges in the Northeast\, they so missed the foods of their hometown that they founded The Lee Bros. Boiled Peanuts Catalogue\, a mail-order catalogue for southern pantry staples like stone-ground grits\, fig preserves\, and\, of course\, boiled peanuts. When an editor of a travel magazine asked them to write a story about road-tripping in their home state in search of great food\, they embarked on a second career as food and travel journalists. They currently write food stories for Travel + Leisure\, Food &amp\; Wine\, GQ\, The New York Times\, and are the wine columnists for Martha Stewart Living. Visit http://www.mccoycenter.org/ for more info. \n<br>\n<br>
LOCATION:Jeanne B. McCoy Community Center for the Arts located at 100 W. Dublin-Granville Road New Albany\, OH 43054
UID:e.304.704
SEQUENCE:3
DTSTAMP:20260420T113432Z
URL:https://cm.newalbanychamber.com/events/details/the-lee-brothers-culinary-arts-04-10-2011-704
END:VEVENT

END:VCALENDAR
