BEGIN:VCALENDAR
VERSION:2.0
PRODID:-//ChamberMaster//Event Calendar 2.0//EN
METHOD:PUBLISH
X-PUBLISHED-TTL:P3D
REFRESH-INTERVAL:P3D
CALSCALE:GREGORIAN
BEGIN:VEVENT
DTSTART:20080503T130000Z
DTEND:20080503T170000Z
X-MICROSOFT-CDO-ALLDAYEVENT:FALSE
SUMMARY:The Music Man\, jr. Auditions
DESCRIPTION:Open auditions for area school children ages 8 thru 15 (3rd thru 9th grade completed) for The Music Man\, Jr. to be performed July 11\, 12 & 13\, 2008 at The McCoy.  Additional information and Audition forms can be downloaded from website
X-ALT-DESC;FMTTYPE=text/html:Open auditions for area school children ages 8 thru 15 (3rd thru 9th grade completed) for The Music Man\, Jr. to be performed July 11\, 12 & 13\, 2008 at The McCoy.  Additional information and Audition forms can be downloaded from website
LOCATION:New Albany High School choral room and mini-theater\, 7600 Fodor Rd.
UID:e.304.224
SEQUENCE:3
DTSTAMP:20260422T175022Z
URL:https://cm.newalbanychamber.com/events/details/the-music-man-jr-auditions-05-03-2008-224
END:VEVENT

END:VCALENDAR
