BEGIN:VCALENDAR
VERSION:2.0
PRODID:-//ChamberMaster//Event Calendar 2.0//EN
METHOD:PUBLISH
X-PUBLISHED-TTL:P3D
REFRESH-INTERVAL:P3D
CALSCALE:GREGORIAN
BEGIN:VEVENT
DTSTART;VALUE=DATE:20080711
DTEND;VALUE=DATE:20080714
TRANSP:TRANSPARENT
X-MICROSOFT-CDO-ALLDAYEVENT:TRUE
SUMMARY:The Music Man- Jr Musical
DESCRIPTION:The New Albany Arts Council Presents The Music Man- Jr Musical.
X-ALT-DESC;FMTTYPE=text/html:<div>The New Albany Arts Council Presents The Music Man- Jr Musical.</div>
LOCATION:McCoy Community Center for the Arts100 W Granville StNew Albany\, OH 43054
UID:e.304.194
SEQUENCE:3
DTSTAMP:20260422T144032Z
URL:https://cm.newalbanychamber.com/events/details/the-music-man-jr-musical-07-11-2008-194
END:VEVENT

END:VCALENDAR
