BEGIN:VCALENDAR
VERSION:2.0
PRODID:-//ChamberMaster//Event Calendar 2.0//EN
METHOD:PUBLISH
X-PUBLISHED-TTL:P3D
REFRESH-INTERVAL:P3D
CALSCALE:GREGORIAN
BEGIN:VEVENT
DTSTART:20090303T143000Z
DTEND:20090303T160000Z
X-MICROSOFT-CDO-ALLDAYEVENT:FALSE
SUMMARY:The NAWN Breakfast Club
DESCRIPTION:Please join us for our Breakfast Club at First Watch on Hamilton Road. Join us for this casual\, fun breakfast out. Children are always welcome. RSVP to Suzanne Fife by 2/29/09 at membership@NAWN.org.
X-ALT-DESC;FMTTYPE=text/html:<div>Please join us for our Breakfast Club at First Watch on Hamilton Road. Join us for this casual\, fun breakfast out. Children are always welcome. RSVP to Suzanne Fife by 2/29/09 at membership@NAWN.org.</div>
LOCATION:First Watch on Hamilton Road
UID:e.304.414
SEQUENCE:3
DTSTAMP:20260422T022732Z
URL:https://cm.newalbanychamber.com/events/details/the-nawn-breakfast-club-03-03-2009-414
END:VEVENT

END:VCALENDAR
