BEGIN:VCALENDAR
VERSION:2.0
PRODID:-//ChamberMaster//Event Calendar 2.0//EN
METHOD:PUBLISH
X-PUBLISHED-TTL:P3D
REFRESH-INTERVAL:P3D
CALSCALE:GREGORIAN
BEGIN:VEVENT
DTSTART:20090805T220000Z
DTEND:20090806T000000Z
X-MICROSOFT-CDO-ALLDAYEVENT:FALSE
SUMMARY:The New Albany Business Development Center Open House
DESCRIPTION:Enjoy Food and Drinks while Networking and learning about the resources available through the New Albany Business Development Center.\n\nThe recently opened New Albany Business Development Center (NABDC)\, located at 6530 West Campus Oval in the heart of the New Albany Business Park\, provides office space and shared resources for housing startups and encouraging collaboration and synergies between the companies and consultants sharing the space.
X-ALT-DESC;FMTTYPE=text/html:Enjoy Food and Drinks while Networking and learning about the resources available through the New Albany Business Development Center.\n\nThe recently opened New Albany Business Development Center (NABDC)\, located at 6530 West Campus Oval in the heart of the New Albany Business Park\, provides office space and shared resources for housing startups and encouraging collaboration and synergies between the companies and consultants sharing the space.\n\n
LOCATION:New Albany Business Development Center The New Albany Business Development Center 6530 West Campus Oval New Albany\, Ohio
UID:e.304.474
SEQUENCE:3
DTSTAMP:20260421T202950Z
URL:https://cm.newalbanychamber.com/events/details/the-new-albany-business-development-center-open-house-08-05-2009-474
END:VEVENT

END:VCALENDAR
