BEGIN:VCALENDAR
VERSION:2.0
PRODID:-//ChamberMaster//Event Calendar 2.0//EN
METHOD:PUBLISH
X-PUBLISHED-TTL:P3D
REFRESH-INTERVAL:P3D
CALSCALE:GREGORIAN
BEGIN:VEVENT
DTSTART;VALUE=DATE:20091212
DTEND;VALUE=DATE:20091213
TRANSP:TRANSPARENT
X-MICROSOFT-CDO-ALLDAYEVENT:TRUE
SUMMARY:The Nutcracker
DESCRIPTION:New Albany Children's Ballet Theatre invites you to their annual premiere of The Nutcracker on Saturday\, December 12th\, showing at 2pm and 7pm. This splendid performance will be held at the Jeanne B. McCoy Community Center for the Arts on 100 W. Granville Street of New Albany\, 43054. Tickets are available for purchase\, beginning November 1st\, online at www.mccoycenterforthearts.com or by calling 614-939-2245. Tickets may also be purchased at the McCoy box office the day of the performance. Group discount tickets are available through the McCoy box office.
X-ALT-DESC;FMTTYPE=text/html:<div><div>New Albany Children's Ballet Theatre invites you to their annual premiere of <em>The Nutcracker&nbsp\;</em>on Saturday\, December 12th\,&nbsp\;showing at 2pm&nbsp\;and 7pm.&nbsp\;This splendid performance will be held at the Jeanne B. McCoy Community Center for the Arts on 100 W. Granville Street of&nbsp\;New Albany\, 43054. Tickets are available for purchase\, beginning November 1st\, online at <a href="http://www.mccoycenterforthearts.com">www.mccoycenterforthearts.com</a> or by calling 614-939-2245. Tickets may also be purchased at the McCoy box office the day of the performance. Group discount tickets are available through the McCoy box office.</div></div>
LOCATION:
UID:e.304.550
SEQUENCE:3
DTSTAMP:20260421T130310Z
URL:https://cm.newalbanychamber.com/events/details/the-nutcracker-12-12-2009-550
END:VEVENT

END:VCALENDAR
