BEGIN:VCALENDAR
VERSION:2.0
PRODID:-//ChamberMaster//Event Calendar 2.0//EN
METHOD:PUBLISH
X-PUBLISHED-TTL:P3D
REFRESH-INTERVAL:P3D
CALSCALE:GREGORIAN
BEGIN:VEVENT
DTSTART:20101211T000000Z
DTEND:20101211T020000Z
X-MICROSOFT-CDO-ALLDAYEVENT:FALSE
SUMMARY:The Nutcracker 2010
DESCRIPTION:Join the New Albany Ballet Company for their annual "The Nutcracker" recital on December 10th of 2010. The performance will begin at 7:00 pm. For more information call 614-939-9058.
X-ALT-DESC;FMTTYPE=text/html:<div>Join the&nbsp\;New Albany Ballet Company for their annual &quot\;The Nutcracker&quot\; recital on December 10th of 2010. The performance will begin at 7:00 pm. For more information call 614-939-9058.</div>
LOCATION:
UID:e.304.531
SEQUENCE:3
DTSTAMP:20260420T174801Z
URL:https://cm.newalbanychamber.com/events/details/the-nutcracker-2010-12-10-2010-531
END:VEVENT

END:VCALENDAR
