BEGIN:VCALENDAR
VERSION:2.0
PRODID:-//ChamberMaster//Event Calendar 2.0//EN
METHOD:PUBLISH
X-PUBLISHED-TTL:P3D
REFRESH-INTERVAL:P3D
CALSCALE:GREGORIAN
BEGIN:VEVENT
DTSTART;VALUE=DATE:20101212
DTEND;VALUE=DATE:20101213
TRANSP:TRANSPARENT
X-MICROSOFT-CDO-ALLDAYEVENT:TRUE
SUMMARY:The Nutcracker 2010
DESCRIPTION:Join the New Albany Ballet Company for their annual "The Nutcracker" recital on December 12th of 2010. The performance will begin at 2:00 pm. For more information call 614-939-9058.
X-ALT-DESC;FMTTYPE=text/html:<div><div>Join the&nbsp\;New Albany Ballet Company for their annual &quot\;The Nutcracker&quot\; recital on December 12th of 2010. The performance will begin at 2:00 pm. For more information call 614-939-9058.</div></div>
LOCATION:
UID:e.304.533
SEQUENCE:3
DTSTAMP:20260420T174801Z
URL:https://cm.newalbanychamber.com/events/details/the-nutcracker-2010-12-12-2010-533
END:VEVENT

END:VCALENDAR
